BEGIN:VCALENDAR
VERSION:2.0
PRODID:-//hacksw/handcal//NONSGML v1.0//EN
BEGIN:VEVENT
SUMMARY:Journee educative Soyons PRETS U11
UID:570f6dcd-43ee-4436-84cc-880c2547664c
DTSTART:20260516T073000Z
DTEND:20260516T220000Z
LOCATION:Localisation   
CATEGORIES:Sportif
STATUS:
URL;VALUE=URI:https://www.csmfoot.com/evenements/2026/05/16/journee-educative-soyons-prets-u11-2426698
END:VEVENT
END:VCALENDAR
