BEGIN:VCALENDAR
VERSION:2.0
PRODID:-//hacksw/handcal//NONSGML v1.0//EN
BEGIN:VEVENT
SUMMARY:Tournoi Printemps - U10/15 Feminines
UID:8e5436a5-9a64-4f3b-bd4f-fc245d081b01
DTSTART:20260613T070000Z
DTEND:20260613T220000Z
LOCATION:Localisation   
CATEGORIES:Sportif
STATUS:
URL;VALUE=URI:https://www.csmfoot.com/evenements/2026/06/13/tournoi-printemps-u1015-feminines-2426699
END:VEVENT
END:VCALENDAR
