BEGIN:VCALENDAR
VERSION:2.0
PRODID:-//hacksw/handcal//NONSGML v1.0//EN
BEGIN:VEVENT
SUMMARY:Tournoi Printemps - U10/U15 Masculins
UID:381d478b-c454-4e7d-81c4-b9f3574334bc
DTSTART:20260614T070000Z
DTEND:20260614T220000Z
LOCATION:Localisation   
CATEGORIES:Sportif
STATUS:
URL;VALUE=URI:https://www.csmfoot.com/evenements/2026/06/14/tournoi-printemps-u10u15-masculins-2426701
END:VEVENT
END:VCALENDAR
